BEGIN:VCALENDAR
VERSION:2.0
PRODID:-//Eventin//Event Calendar//EN
CALSCALE:GREGORIAN
METHOD:PUBLISH
BEGIN:VEVENT
UID:82d5c8c1058d78b83c5145156f6afaaa@www.roskk.no
SUMMARY:Fallsikring 8 timer
DESCRIPTION:Fallsikringskurs er pålagt for alle som skal jobbe mer enn 2 m
 eter over bakken.\nGjennomføres etter NOROG retningslinje 113.\nGjennom et
  fallsikringskurs lærer du om ulike teknikker for fallsikring\, om mulighe
 tene og begrensningene ved de ulike metodene\, metoder for redning\, vedlik
 ehold\, kontroll og oppbevaring av utstyr\, lover\, regler og retningslinje
 r for fallsikring\, samt risikohåndtering.\n \nDette kurset kreves som fo
 rkunnskaper før en kan gjennomføre riggerkurs.\n \nVarighet8 timer (4tim
 er teori og 4 timer praksis)\n \nForkunnskaperIngen\n \nAvsluttende prøv
 eKursbevis utstedes
LOCATION:Rosenberg Verft\, Bangarvågsgata 15\, Hundvåg
DTSTAMP:20260419T144508Z
DTSTART:20260623T060000Z
DTEND:20260623T123000Z
END:VEVENT
END:VCALENDAR
