BEGIN:VCALENDAR
VERSION:2.0
PRODID:-//Eventin//Event Calendar//EN
CALSCALE:GREGORIAN
METHOD:PUBLISH
BEGIN:VEVENT
UID:21ab217518e68052c572cc7e2156e8c3@www.roskk.no
SUMMARY:Truck T1 T2 T4
DESCRIPTION:Hensikten med opplæringen er å gi truckførere en god teoreti
 sk og praktisk grunnopplæring i sikker bruk av trucker.\nGi truckførere a
 llsidig teoretisk og praktisk opplæring\, og øvelse i sikker bruk av truc
 k\, slik at ulykker ved bruk unngås. Opplæringen skal gi fører så gode 
 kjøreferdigheter at vedkommende selvstendig på en sikker måte skal kunne
  gjennomføre oppdrag med truck.\nVarighet4 dager (2 dager teori og 2 dager
  praksis.) På grunn av fri 01.mai\, har vi lengre kursdager på praksisdag
 ene til kl 16.\nForkunnskaperIngen\nKursinformasjon\n\nEtter dette kurset f
 år du ferdig sertifisert kompetansebevis\,\nAll praksis er inkludert i kur
 set\, 2 dager teori og 2 dager praksis.\nDu unngår å måtte ha fadderordn
 ing etterpå.\n\nAvsluttende prøvePraktisk prøve.
LOCATION:Rosenberg Verft\, Bangarvågsgata 15\, Hundvåg
DTSTAMP:20260421T102138Z
DTSTART:20260427T060000Z
DTEND:20260430T140000Z
END:VEVENT
END:VCALENDAR
