BEGIN:VCALENDAR
VERSION:2.0
PRODID:-//Eventin//Event Calendar//EN
CALSCALE:GREGORIAN
METHOD:PUBLISH
BEGIN:VEVENT
UID:f19b4b429a02199dcdb130b064879a7a@www.roskk.no
SUMMARY:Truck T1 T2 og T4 med praksis
DESCRIPTION:Hensikten med opplæringen er å gi truckførere en god teoreti
 sk og praktisk grunnopplæring i sikker bruk av trucker.\nGi truckførere a
 llsidig teoretisk og praktisk opplæring\, og øvelse i sikker bruk av truc
 k\, slik at ulykker ved bruk unngås. Opplæringen skal gi fører så gode 
 kjøreferdigheter at vedkommende selvstendig på en sikker måte skal kunne
  gjennomføre oppdrag med truck.\nVarighet5 dager (2 dager teori og 3 dager
  praksis.)\nForkunnskaperIngen\nKursinformasjon\n\nEtter dette kurset får 
 du ferdig sertifisert kompetansebevis\,\nAll praksis er inkludert i kurset\
 , 2 dager teori og 3 dager praksis.\nDu unngår å måtte ha fadderordning 
 etterpå.\n\nAvsluttende prøvePraktisk prøve.
LOCATION:Rosenberg Verft\, Bangarvågsgata 15\, Hundvåg
DTSTAMP:20260420T094428Z
DTSTART:20260615T060000Z
DTEND:20260619T140000Z
END:VEVENT
END:VCALENDAR
