BEGIN:VCALENDAR
VERSION:2.0
PRODID:-//Eventin//Event Calendar//EN
CALSCALE:GREGORIAN
METHOD:PUBLISH
BEGIN:VEVENT
UID:e890e69d12ddfe583483331cbbc394ef@www.roskk.no
SUMMARY:Rep Rigg med praksis
DESCRIPTION:Rigger repetisjonskurs gir en grunnleggende repetisjon i riggin
 g og oppdatering av kunnskap om riggeoperasjoner.\nVarighet1 dag\nForkunnsk
 aperG11 Løfteredskap kurs Modul 1.1/2.3 (24t)Riggerkurs modul P-2.4 – En
 kle løfteinnretninger\, 16 timer (teori).Modul P-4.4 – Rigging\, 32 time
 r (teori og praksis) fra før.\nEldre riggerkurs gjelder også:Riggerkurs m
 odul O-2.2 – Fallsikring og enkle løfteinnretninger\, 16 timer (teori). 
 Modul O-3.2 – Rigging\, 32 timer (teori og praksis)Alle forhåndskrav ska
 l dokumenteres av deltaker i form av kompetansebevis ved oppstart\, og skal
  godkjennes av opplæringsvirksomhet\, før læretiltaket starter.\n \nAvs
 luttende prøveKursbevis utstedes
LOCATION:Rosenberg Verft\, Bangarvågsgata 15\, Hundvåg
DTSTAMP:20260419T144815Z
DTSTART:20260511T060000Z
DTEND:20260511T123000Z
END:VEVENT
END:VCALENDAR
