BEGIN:VCALENDAR
VERSION:2.0
PRODID:-//Eventin//Event Calendar//EN
CALSCALE:GREGORIAN
METHOD:PUBLISH
BEGIN:VEVENT
UID:46246783bf13be5f7502eaa42781ff11@www.roskk.no
SUMMARY:Personløfter Klasse A+B
DESCRIPTION:Kurset gir teoriopplæring i klasse ABC\, praksis og kompetanse
 bevis på klasse AB.\nNorske myndigheter stiller krav til at arbeidstakere 
 som bruker lift (personløfter) kan dokumentere praktisk og teoretisk oppl
 æring i bruken av disse. Arbeidsgiver er ansvarlig for at arbeidstakerne h
 ar den nødvendige opplæring. \nHensikten med personløfterkurset er å gi
  personer som arbeider i høyden med personløfter kunnskaper om sikker bru
 k\, vedlikehold og daglig kontroll.\n \nVarighet1 dag\n \nForkunnskaperM
 å ha fylt 18 år\n \nAvsluttende prøveKursbevis utstedes
LOCATION:Rosenberg Verft\, Bangarvågsgata 15\, Hundvåg
DTSTAMP:20260421T133123Z
DTSTART:20260512T060000Z
DTEND:20260512T123000Z
END:VEVENT
END:VCALENDAR
