BEGIN:VCALENDAR
VERSION:2.0
PRODID:-//Eventin//Event Calendar//EN
CALSCALE:GREGORIAN
METHOD:PUBLISH
BEGIN:VEVENT
UID:b152fa0e25b21cbf6a06e384766fe6a5@www.roskk.no
SUMMARY:Varme Arbeider
DESCRIPTION:Forsikringsbransjen i Norge stiller krav om at alle som utføre
 r varme arbeider innehar et sertifikat som dokumenterer at man har gjennomg
 ått godkjent opplæring i varme arbeider. Sertifiseringen er gyldig i 5 å
 r. Med varme arbeider forstås arbeider hvor det benyttes maskiner og utsty
 r som genererer gnister og varme som kan føre til brann.Den som skal utfø
 re varme arbeider på en sikker måte må ha en viss kompetanse. Utøveren 
 må ha kunnskap om gjeldende regelverk som omfatter varme arbeider\, grunnl
 eggende brannteori og risiko tilknyttet utførelsen av det varme arbeidet.F
 or å utøve det varme arbeidet sikkert må utøveren forstå hva som kan v
 ære\, eller utvikle seg til brannfarlige situasjoner. Utøveren må også 
 forstå hvordan egen atferd innvirker på sikkerheten\, og ha vilje til å 
 handle slik at utførelsen av varme arbeider blir sikkert.Utførelse av var
 me arbeider medfører en risiko for at brann- og branntilløp oppstår. Kun
 nskap og ferdigheter knyttet til slokking av brann er derfor en viktig del 
 av utøverens kompetanse.Kompetanse innen brannvern ved utførelse av varme
  arbeider kan altså sees på som de kunnskaper\, ferdigheter\, holdninger 
 og den motivasjon utøveren trenger for å mestre utførelsen av det varme 
 arbeidet på en brannsikker måte.\nVarighet7\,5 timer – (1 undervisnings
 time = 45 minutt)\nForkunnskaperIngen\nAvsluttende prøveEksamen\nUtøveren
  skal gjennomføre en praktisk slokkeøvelse. Denne er obligatorisk og skal
  tilfredsstille kravene i «Instruks for gjennomføring av slokkeøvelse».
  For utøvere som kan dokumentere at de har gjennomført slokkeøvelse i he
 nhold til fastsatte krav i løpet av de to siste årene\, er det ikke nødv
 endig med en ny slokkeøvelse. Dokumentasjon på slokkeøvelse skal gjøres
  på skjema«Dokumentasjon på gjennomført slokkeøvelse»\, signeres ansv
 arlig for slokkeøvelse og forelegges kursinstruktør.For å bli sertifiser
 t må utøveren bestå en avsluttende eksamen.Godkjent kurs forutsetter at 
 utøveren har deltatt på hele kurset. Hvis en utøver blir forhindret fra 
 å delta på deler av kurset\, må det legges til rette for at timene kan t
 as igjen på tilsvarende kurs senere.
LOCATION:Varme arbeider 1708
DTSTAMP:20260420T095040Z
DTSTART:20260817T060000Z
DTEND:20260817T123000Z
END:VEVENT
END:VCALENDAR
