BEGIN:VCALENDAR
VERSION:2.0
PRODID:-//Eventin//Event Calendar//EN
CALSCALE:GREGORIAN
METHOD:PUBLISH
BEGIN:VEVENT
UID:8924bf6d5235517a803caace18032457@www.roskk.no
SUMMARY:Fall Arrest 8 hours
DESCRIPTION:A Fall Arrest course is required for anyone who must work more 
 than 2 meters above the ground.\nAccording to NOROG 113. And NS 9610\nThe c
 ourse gives insight into fall theory and common fall arrest methods \, meth
 ods for rescue\, maintenance\, control and storage of equipment\, laws\, ru
 les and guidelines for fall arrest\, as well as risk management. \nDuratio
 n\n8 hours (theory and practice)\nPrior knowledge\nNo\n Final examCourse c
 ertificates are issued
LOCATION:Fall Arrest 0806
DTSTAMP:20260420T095045Z
DTSTART:20260608T060000Z
DTEND:20260608T123000Z
END:VEVENT
END:VCALENDAR
