BEGIN:VCALENDAR
VERSION:2.0
PRODID:-//Eventin//Event Calendar//EN
CALSCALE:GREGORIAN
METHOD:PUBLISH
BEGIN:VEVENT
UID:17e188c5a6b7535aba91424f047ce11a@www.roskk.no
SUMMARY:Stortruck T8 med praksis
DESCRIPTION:Hensikten med opplæringen er å gi truckførere en god teoreti
 sk og praktisk grunnopplæring i sikker bruk av trucker.\nGi truckførere a
 llsidig teoretisk og praktisk opplæring\, og øvelse i sikker bruk av truc
 k\, slik at ulykker ved bruk unngås. Opplæringen skal gi fører så gode 
 kjøreferdigheter at vedkommende selvstendig på en sikker måte skal kunne
  gjennomføre oppdrag med truck.\nVarighet\n2 dager\, Dag 1 teori 10.00-14.
 00\, Praksis 14.00-21.00\nDag 2 praksis/oppkjøring 14.00-21-00\n \nForkun
 nskaperT4\nKursinformasjon\n\nEtter dette kurset får du ferdig sertifisert
  kompetansebevis\,\nDu unngår å måtte ha fadderordning etterpå.\n\nAvsl
 uttende prøvePraktisk prøve.
LOCATION:Rosenberg Verft\, Bangarvågsgata 15\, Hundvåg
DTSTAMP:20260420T095619Z
DTSTART:20260505T060000Z
DTEND:20260506T190000Z
END:VEVENT
END:VCALENDAR
