BEGIN:VCALENDAR
VERSION:2.0
PRODID:-//Eventin//Event Calendar//EN
CALSCALE:GREGORIAN
METHOD:PUBLISH
BEGIN:VEVENT
UID:079c8e5ebda1ad576de99cd602ce86e5@www.roskk.no
SUMMARY:Slinger course G11
DESCRIPTION:Slinger Course is for anyone who are to use lifting equipment i
 n their work. The course is compulsory for all crank classes. For machine a
 nd truck drivers who use straps for lifting\, the course is also required.\
 nThe authorities impose demands on anhouker/signal men have been documented
  training in order to be able to do this in a safe and secure manner.\n \n
 Duration7 hours Module 116 hours Module 2.3\nPrior knowledgeIf the candidat
 e have documented finished Module 1 earlier\, the first day of the course c
 an be skipped..
LOCATION:Rosenberg Verft\, Bangarvågsgata 15\, Hundvåg
DTSTAMP:20260420T094359Z
DTSTART:20261111T070000Z
DTEND:20261113T133000Z
END:VEVENT
END:VCALENDAR
