BEGIN:VCALENDAR
VERSION:2.0
PRODID:-//Eventin//Event Calendar//EN
CALSCALE:GREGORIAN
METHOD:PUBLISH
BEGIN:VEVENT
UID:673473c0a687fcf0d55e930a686944a7@www.roskk.no
SUMMARY:Stropp/Anhuker G11
DESCRIPTION:Stropp/anhukerkurs er for alle som skal bruke løfteutstyr i ar
 beid.  Kurset er obligatorisk for alle kranklasser. For maskin- og truckf
 ørere som bruker stropper til løft\, er kurset også påbudt.\nMyndighete
 ne stiller krav til at anhukere/signalmenn har fått dokumentert opplæring
  for å kunne utføre dette på en trygg og sikker måte.\nVarighet7 timer 
 Modul 116 timer Modul 3.2\nForkunnskaperKan kandidaten dokumentere å tidli
 gere ha gjennomført modul 1\, trenger kandidaten kun ådelta på Modul 2.3
 \, de to siste dagene av kurset. \nAvsluttende prøveEksamen
LOCATION:Rosenberg Verft\, Bangarvågsgata 15\, Hundvåg
DTSTAMP:20260420T095430Z
DTSTART:20261209T070000Z
DTEND:20261211T133000Z
END:VEVENT
END:VCALENDAR
