BEGIN:VCALENDAR
VERSION:2.0
PRODID:-//Eventin//Event Calendar//EN
CALSCALE:GREGORIAN
METHOD:PUBLISH
BEGIN:VEVENT
UID:43e3ce197a87bfd84dbaa3be1113a41e@www.roskk.no
SUMMARY:Rigger kurs P2.4 & P4.4
DESCRIPTION:Kurset gir innsikt i prinsippene bak riggeutstyrets konstruksjo
 n\, virkemåte\, bruk og vedlikehold. Formålet er å unngå uønskede hend
 elser ifm riggeoperasjoner.\nRiggerkurset er for personell som bruker eller
  sammenstiller løfteutstyr og manuelle vinsjer og taljer. Utstyr som benyt
 tes ved horisontal og vertikal forflytning av last\, og som er opphengt i u
 sertifisert struktur (bjelke/padeye). Kurset vil også være nyttig for per
 sonell som deltar i løfteoperasjoner på land.\nVarighetLæretiltaket skal
  ha en varighet på minimum 40 undervisningstimer\, og skal fordeles over m
 inimum 5 dager. Med undervisningstime menes i denne sammenheng 45 minutter 
 undervisning. Forutsetning for denne opplæringsmodulen er at P-2.4 og P-4.
 4 tas sammenhengende.40t \,med følgende timefordeling:\n\n\n\n\nTeori\n\n\
 n8 timer\n\n\n\n\nPraksis\n\n\n24 timer\n\n\n\n\nTeoretisk avsluttende prø
 ve\n\n\n2 timer\n\n\n\n\nPraktisk prøve for gruppe 1\, evalueres av gruppe
  2\n\n\n3 timer\n\n\n\n\nPraktisk prøve for gruppe 2\, evalueres av gruppe
  1\n\n\n3 timer\n\n\n\n\nSum\n\n\n40 timer\n\n\n\n\nForkunnskaper\n\nModul 
 O-1.1 G11 Løfteredskap (alternativt modul 1 + 2.3). G11\nFallsikring grunn
 leggende ref NS 9610/ NOROG retningslinje 113\, 8 timer\n\nAlle forhåndskr
 av skal dokumenteres av deltaker i form av kompetansebevis ved oppstart\, o
 g skal godkjennes av opplæringsvirksomhet\, før læretiltaket starter.\nA
 vsluttende prøveEksamenKursbevis utstedes
LOCATION:Rosenberg Verft\, Bangarvågsgata 15\, Hundvåg
DTSTAMP:20260419T142747Z
DTSTART:20261214T070000Z
DTEND:20261218T133000Z
END:VEVENT
END:VCALENDAR
