BEGIN:VCALENDAR
VERSION:2.0
PRODID:-//Eventin//Event Calendar//EN
CALSCALE:GREGORIAN
METHOD:PUBLISH
BEGIN:VEVENT
UID:b593b418a45fb7d14ca571e705c90855@www.roskk.no
SUMMARY:Traverskran G4
DESCRIPTION:Hensikten med opplæringen er å gi traverskranførere en god t
 eoretisk grunnopplæring i sikker bruk av traverskraner\, slik at uhell og 
 ulykker i forbindelse med løfteoperasjoner unngås.Opplæringen skal gi ka
 ndidatene god innsikt i prinsippene for traverskraners konstruksjon\, virke
 måte\, vedlikehold og bruk.\nOpplæringen avsluttes med en skriftlig teore
 tisk prøve. Når kandidaten har bestått teoretisk prøve\, samt avslutten
 de teoretisk prøve for anhukere med tillegg av praktisk kjøreprøve på t
 raverskran\, vil dette være grunnlag for utstedelse av kompetanse-bevis fo
 r fører av G4 Bro- og traverskraner.\nVarighet16 timer – (1 undervisning
 stime = 45 minutt)\n3 dager praksis\nForkunnskaperKandidaten må dokumenter
 e å tidligere ha gjennomført modul 1.1 og modul 2.3  G11\nAvsluttende pr
 øveEksamen
LOCATION:Rosenberg Verft\, Bangarvågsgata 15\, Hundvåg
DTSTAMP:20260419T144645Z
DTSTART:20260914T060000Z
DTEND:20260918T123000Z
END:VEVENT
END:VCALENDAR
