BEGIN:VCALENDAR
VERSION:2.0
PRODID:-//Eventin//Event Calendar//EN
CALSCALE:GREGORIAN
METHOD:PUBLISH
BEGIN:VEVENT
UID:889c79a9696d944ece3c218673e2b3d3@www.roskk.no
SUMMARY:Overhead crane G4
DESCRIPTION:The purpose of the training is to provide overhead crane operat
 ors with good theoretical and basic training in the safe use of overhead cr
 anes\, so that accidents and incidents in connection with lifting operation
 s are avoided.\nThe training shall give the candidates good insight into th
 e principles of overhead crane construction\, operation\, maintenance and u
 se.\nThe training ends with a written theoretical test. When the candidate 
 has passed the theoretical test\, as well as the final theoretical test for
  slingers with the addition of a practical driving test on an overhead cran
 e\, this will be the basis for issuing a certificate of competence for oper
 ators of G4 Bridge and overhead cranes.\n \nDuration\nTheory 16 hours – 
 (1 teaching hour = 45 minutes)\n3 days of practice\nPrerequisites\nThe cand
 idate must document having previously completed module 1 and module 2.3 G11
 \nFinal test\nExam
LOCATION:Rosenberg Verft\, Bangarvågsgata 15\, Hundvåg
DTSTAMP:20260420T094548Z
DTSTART:20260921T060000Z
DTEND:20260925T123000Z
END:VEVENT
END:VCALENDAR
