BEGIN:VCALENDAR
VERSION:2.0
PRODID:-//Eventin//Event Calendar//EN
CALSCALE:GREGORIAN
METHOD:PUBLISH
BEGIN:VEVENT
UID:c4ee68fbd5a14f0469455c1b29e1a6aa@www.roskk.no
SUMMARY:Truck T1 T2 and T4 with practice
DESCRIPTION:The purpose of the training is to give truck drivers a good the
 oretical and practical basic training in the safe use of trucks. Provide tr
 uck drivers with all-round theoretical and practical training\, and practic
 e in the safe use of trucks\, so that accidents during use are avoided. The
  training should give the driver such good driving skills that the person c
 oncerned should be able to carry out tasks with a truck independently in a 
 safe manner. Duration 4 days (2 days theory and 2 days practice.) Practice 
 days to 16.00.Prior knowledge No Course information • After this course\,
  you will receive a fully certified certificate of competence\, • All pra
 ctice is included in the course\, 2 days of theory and 2 days of practice. 
 • You avoid having to have a sponsorship arrangement afterwards.\nFinal t
 heory test Practical test.
LOCATION:Rosenberg Verft\, Bangarvågsgata 15\, Hundvåg
DTSTAMP:20260420T095728Z
DTSTART:20260824T060000Z
DTEND:20260828T123000Z
END:VEVENT
END:VCALENDAR
